BEGIN:VCALENDAR
VERSION:2.0
PRODID:-//Fiji Jamaat Ul Islam of America - ECPv6.15.17.1//NONSGML v1.0//EN
CALSCALE:GREGORIAN
METHOD:PUBLISH
X-WR-CALNAME:Fiji Jamaat Ul Islam of America
X-ORIGINAL-URL:https://fjia.org
X-WR-CALDESC:Events for Fiji Jamaat Ul Islam of America
REFRESH-INTERVAL;VALUE=DURATION:PT1H
X-Robots-Tag:noindex
X-PUBLISHED-TTL:PT1H
BEGIN:VTIMEZONE
TZID:UTC
BEGIN:STANDARD
TZOFFSETFROM:+0000
TZOFFSETTO:+0000
TZNAME:UTC
DTSTART:20220101T000000
END:STANDARD
END:VTIMEZONE
BEGIN:VEVENT
DTSTART;TZID=UTC:20230930T120000
DTEND;TZID=UTC:20230930T170000
DTSTAMP:20260421T115543
CREATED:20230929T105157Z
LAST-MODIFIED:20230929T105157Z
UID:923-1696075200-1696093200@fjia.org
SUMMARY:FJIA Bazaar Day
DESCRIPTION:Come join us on Saturday\, September 30th from 12PM to 5PM for FJIA Bazaar Day. Fun day full of activities and in-person Bazaar day with local community members.
URL:https://fjia.org/event/fjia-bazaar-day/
LOCATION:Bazaar\, 373 Alta Vista Dr\, South San Francisco\, 94080\, United States
END:VEVENT
END:VCALENDAR